BEGIN:VCALENDAR
PRODID:Calendar
VERSION:2.0
BEGIN:VEVENT
UID:4616@www.pccinwestor.pl
CLASS:PUBLIC
DESCRIPTION:PCC Exol - Wypłata odsetek z obligacji serii D1 za X okres odsetkowy
DTSTAMP;VALUE=DATE-TIME:20260424T095244
DTSTART;VALUE=DATE-TIME:20261211
DTEND;VALUE=DATE-TIME:20261211
LOCATION:https://www.pccinwestor.pl/
SUMMARY;LANGUAGE=pl-pl:PCC Exol - Wypłata odsetek z obligacji serii D1 za X okres odsetkowy
TRANSP:TRANSPARENT
END:VEVENT
END:VCALENDAR