BEGIN:VCALENDAR
PRODID:Calendar
VERSION:2.0
BEGIN:VEVENT
UID:4614@www.pccinwestor.pl
CLASS:PUBLIC
DESCRIPTION:PCC Exol - Wypłata odsetek z obligacji serii D1 za VIII okres odsetkowy
DTSTAMP;VALUE=DATE-TIME:20260424T095259
DTSTART;VALUE=DATE-TIME:20260611
DTEND;VALUE=DATE-TIME:20260611
LOCATION:https://www.pccinwestor.pl/
SUMMARY;LANGUAGE=pl-pl:PCC Exol - Wypłata odsetek z obligacji serii D1 za VIII okres odsetkowy
TRANSP:TRANSPARENT
END:VEVENT
END:VCALENDAR